BEGIN:VCALENDAR
VERSION:2.0
PRODID:-//声優・雨宮天 お仕事非公式データベース - ECPv6.15.20//NONSGML v1.0//EN
CALSCALE:GREGORIAN
METHOD:PUBLISH
X-WR-CALNAME:声優・雨宮天 お仕事非公式データベース
X-ORIGINAL-URL:https://blue10works.com
X-WR-CALDESC:声優・雨宮天 お仕事非公式データベース のイベント
REFRESH-INTERVAL;VALUE=DURATION:PT1H
X-Robots-Tag:noindex
X-PUBLISHED-TTL:PT1H
BEGIN:VTIMEZONE
TZID:Asia/Tokyo
BEGIN:STANDARD
TZOFFSETFROM:+0900
TZOFFSETTO:+0900
TZNAME:JST
DTSTART:20240101T000000
END:STANDARD
END:VTIMEZONE
BEGIN:VEVENT
DTSTART;VALUE=DATE:20251124
DTEND;VALUE=DATE:20251125
DTSTAMP:20260423T021821
CREATED:20250811T185431Z
LAST-MODIFIED:20251122T132452Z
UID:6481-1763942400-1764028799@blue10works.com
SUMMARY:【イベント】雨宮天ディナーショー 2025 昼の部
DESCRIPTION:https://trysail.jp/contents/973591 \nLAWSON presents 雨宮天ディナーショー 2025 \n▼開催日時\n2025年11月24日（月・休）\n第1部 OPEN 12:00 / LUNCH 12:30〜 / SHOW 14:10〜\n第2部 OPEN 17:00 / DINNER 17:30〜 / SHOW 19:10〜 \n▼会場\n東京・グランドプリンスホテル新高輪 国際館パミール 香雲
URL:https://blue10works.com/event/%e3%80%90%e3%82%a4%e3%83%99%e3%83%b3%e3%83%88%e3%80%91%e9%9b%a8%e5%ae%ae%e5%a4%a9%e3%83%87%e3%82%a3%e3%83%8a%e3%83%bc%e3%82%b7%e3%83%a7%e3%83%bc-2025/
END:VEVENT
BEGIN:VEVENT
DTSTART;VALUE=DATE:20251124
DTEND;VALUE=DATE:20251125
DTSTAMP:20260423T021821
CREATED:20250811T185601Z
LAST-MODIFIED:20251122T133209Z
UID:6486-1763942400-1764028799@blue10works.com
SUMMARY:【イベント】雨宮天ディナーショー 2025 夜の部
DESCRIPTION:https://trysail.jp/contents/973591 \nLAWSON presents 雨宮天ディナーショー 2025 \n▼開催日時\n2025年11月24日（月・休）\n第1部 OPEN 12:00 / LUNCH 12:30〜 / SHOW 14:10〜\n第2部 OPEN 17:00 / DINNER 17:30〜 / SHOW 19:10〜 \n▼会場\n東京・グランドプリンスホテル新高輪 国際館パミール 香雲
URL:https://blue10works.com/event/%e3%80%90%e3%82%a4%e3%83%99%e3%83%b3%e3%83%88%e3%80%91%e9%9b%a8%e5%ae%ae%e5%a4%a9%e3%83%87%e3%82%a3%e3%83%8a%e3%83%bc%e3%82%b7%e3%83%a7%e3%83%bc-2025-%e5%a4%9c%e3%81%ae%e9%83%a8/
END:VEVENT
END:VCALENDAR