BEGIN:VCALENDAR
VERSION:2.0
PRODID:-//声優・雨宮天 お仕事非公式データベース - ECPv6.15.20//NONSGML v1.0//EN
CALSCALE:GREGORIAN
METHOD:PUBLISH
X-WR-CALNAME:声優・雨宮天 お仕事非公式データベース
X-ORIGINAL-URL:https://blue10works.com
X-WR-CALDESC:声優・雨宮天 お仕事非公式データベース のイベント
REFRESH-INTERVAL;VALUE=DURATION:PT1H
X-Robots-Tag:noindex
X-PUBLISHED-TTL:PT1H
BEGIN:VTIMEZONE
TZID:Asia/Tokyo
BEGIN:STANDARD
TZOFFSETFROM:+0900
TZOFFSETTO:+0900
TZNAME:JST
DTSTART:20240101T000000
END:STANDARD
END:VTIMEZONE
BEGIN:VEVENT
DTSTART;VALUE=DATE:20250121
DTEND;VALUE=DATE:20250122
DTSTAMP:20260421T223344
CREATED:20251221T121837Z
LAST-MODIFIED:20251221T121837Z
UID:11777-1737417600-1737503999@blue10works.com
SUMMARY:【ゲーム】雀魂（花語白 役）
DESCRIPTION:https://x.com/MahjongSoul_JP/status/1881537202179682631 \n 
URL:https://blue10works.com/event/%e3%80%90%e3%82%b2%e3%83%bc%e3%83%a0%e3%80%91%e9%9b%80%e9%ad%82%ef%bc%88%e8%8a%b1%e8%aa%9e%e7%99%bd-%e5%bd%b9%ef%bc%89/
END:VEVENT
BEGIN:VEVENT
DTSTART;VALUE=DATE:20250121
DTEND;VALUE=DATE:20250122
DTSTAMP:20260421T223344
CREATED:20251221T122001Z
LAST-MODIFIED:20251221T122001Z
UID:11780-1737417600-1737503999@blue10works.com
SUMMARY:【ゲーム】雀魂（花語青 役）
DESCRIPTION:
URL:https://blue10works.com/event/%e3%80%90%e3%82%b2%e3%83%bc%e3%83%a0%e3%80%91%e9%9b%80%e9%ad%82%ef%bc%88%e8%8a%b1%e8%aa%9e%e9%9d%92-%e5%bd%b9%ef%bc%89/
END:VEVENT
END:VCALENDAR