BEGIN:VCALENDAR
VERSION:2.0
PRODID:-//声優・雨宮天 お仕事非公式データベース - ECPv6.15.20//NONSGML v1.0//EN
CALSCALE:GREGORIAN
METHOD:PUBLISH
X-ORIGINAL-URL:https://blue10works.com
X-WR-CALDESC:声優・雨宮天 お仕事非公式データベース のイベント
REFRESH-INTERVAL;VALUE=DURATION:PT1H
X-Robots-Tag:noindex
X-PUBLISHED-TTL:PT1H
BEGIN:VTIMEZONE
TZID:Asia/Tokyo
BEGIN:STANDARD
TZOFFSETFROM:+0900
TZOFFSETTO:+0900
TZNAME:JST
DTSTART:20250101T000000
END:STANDARD
END:VTIMEZONE
BEGIN:VEVENT
DTSTART;VALUE=DATE:20260406
DTEND;VALUE=DATE:20260407
DTSTAMP:20260422T191224
CREATED:20260319T163617Z
LAST-MODIFIED:20260319T163617Z
UID:14371-1775433600-1775519999@blue10works.com
SUMMARY:【パチスロ】「A-SLOT+ 異世界かるてっと BT」（アクア 役）
DESCRIPTION:https://www.sammy.co.jp/japanese/product/pachislot/sp_ise_ka/
URL:https://blue10works.com/event/%e3%80%90%e3%83%91%e3%83%81%e3%82%b9%e3%83%ad%e3%80%91%e3%80%8ca-slot-%e7%95%b0%e4%b8%96%e7%95%8c%e3%81%8b%e3%82%8b%e3%81%a6%e3%81%a3%e3%81%a8-bt%e3%80%8d%ef%bc%88%e3%82%a2%e3%82%af%e3%82%a2/
END:VEVENT
END:VCALENDAR