BEGIN:VCALENDAR
VERSION:2.0
PRODID:-//声優・雨宮天 お仕事非公式データベース - ECPv6.15.20//NONSGML v1.0//EN
CALSCALE:GREGORIAN
METHOD:PUBLISH
X-WR-CALNAME:声優・雨宮天 お仕事非公式データベース
X-ORIGINAL-URL:https://blue10works.com
X-WR-CALDESC:声優・雨宮天 お仕事非公式データベース のイベント
REFRESH-INTERVAL;VALUE=DURATION:PT1H
X-Robots-Tag:noindex
X-PUBLISHED-TTL:PT1H
BEGIN:VTIMEZONE
TZID:Asia/Tokyo
BEGIN:STANDARD
TZOFFSETFROM:+0900
TZOFFSETTO:+0900
TZNAME:JST
DTSTART:20240101T000000
END:STANDARD
END:VTIMEZONE
BEGIN:VEVENT
DTSTART;VALUE=DATE:20251222
DTEND;VALUE=DATE:20251223
DTSTAMP:20260423T004734
CREATED:20251215T143916Z
LAST-MODIFIED:20251215T143916Z
UID:11494-1766361600-1766447999@blue10works.com
SUMMARY:【Web出演】TVアニメ「異世界かるてっと３」最終回同時視聴スペース配信
DESCRIPTION:https://x.com/isekai_quartet/status/2000566522818007186?s=20 \n 
URL:https://blue10works.com/event/%e3%80%90web%e5%87%ba%e6%bc%94%e3%80%91tv%e3%82%a2%e3%83%8b%e3%83%a1%e3%80%8c%e7%95%b0%e4%b8%96%e7%95%8c%e3%81%8b%e3%82%8b%e3%81%a6%e3%81%a3%e3%81%a8%ef%bc%93%e3%80%8d%e6%9c%80%e7%b5%82%e5%9b%9e/
END:VEVENT
BEGIN:VEVENT
DTSTART;VALUE=DATE:20251222
DTEND;VALUE=DATE:20251223
DTSTAMP:20260423T004734
CREATED:20251222T130722Z
LAST-MODIFIED:20251222T130722Z
UID:11919-1766361600-1766447999@blue10works.com
SUMMARY:【TVアニメ】「異世界かるてっと３」（アクア 役）11話
DESCRIPTION:https://x.com/isekai_quartet/status/2001942657384538219 \n 
URL:https://blue10works.com/event/%e3%80%90tv%e3%82%a2%e3%83%8b%e3%83%a1%e3%80%91%e3%80%8c%e7%95%b0%e4%b8%96%e7%95%8c%e3%81%8b%e3%82%8b%e3%81%a6%e3%81%a3%e3%81%a8%ef%bc%93%e3%80%8d%ef%bc%88%e3%82%a2%e3%82%af%e3%82%a2-%e5%bd%b9-7/
END:VEVENT
BEGIN:VEVENT
DTSTART;VALUE=DATE:20251222
DTEND;VALUE=DATE:20251223
DTSTAMP:20260423T004734
CREATED:20251222T140211Z
LAST-MODIFIED:20251222T140211Z
UID:11931-1766361600-1766447999@blue10works.com
SUMMARY:【Web掲載】「異世界かるてっと3」最終話キャストコメント（作品公式X）
DESCRIPTION:https://x.com/isekai_quartet/status/2003098950564532391 \n 
URL:https://blue10works.com/event/%e3%80%90web%e6%8e%b2%e8%bc%89%e3%80%91%e3%80%8c%e7%95%b0%e4%b8%96%e7%95%8c%e3%81%8b%e3%82%8b%e3%81%a6%e3%81%a3%e3%81%a83%e3%80%8d%e6%9c%80%e7%b5%82%e8%a9%b1%e3%82%ad%e3%83%a3%e3%82%b9%e3%83%88/
END:VEVENT
END:VCALENDAR