BEGIN:VCALENDAR
VERSION:2.0
PRODID:-//声優・雨宮天 お仕事非公式データベース - ECPv6.15.20//NONSGML v1.0//EN
CALSCALE:GREGORIAN
METHOD:PUBLISH
X-WR-CALNAME:声優・雨宮天 お仕事非公式データベース
X-ORIGINAL-URL:https://blue10works.com
X-WR-CALDESC:声優・雨宮天 お仕事非公式データベース のイベント
REFRESH-INTERVAL;VALUE=DURATION:PT1H
X-Robots-Tag:noindex
X-PUBLISHED-TTL:PT1H
BEGIN:VTIMEZONE
TZID:Asia/Tokyo
BEGIN:STANDARD
TZOFFSETFROM:+0900
TZOFFSETTO:+0900
TZNAME:JST
DTSTART:20250101T000000
END:STANDARD
END:VTIMEZONE
BEGIN:VEVENT
DTSTART;VALUE=DATE:20260329
DTEND;VALUE=DATE:20260330
DTSTAMP:20260422T191138
CREATED:20260313T092143Z
LAST-MODIFIED:20260328T125403Z
UID:14272-1774742400-1774828799@blue10works.com
SUMMARY:【イベント】彼女お借りします 第5期直前！ トークショー 11:00-11:40
DESCRIPTION:https://info.tv.dmm.com/special/animejapan2026 \nTVアニメ『彼女、お借りします』第5期 AnimeJapanスペシャルステージ　AJと彼女　―エーカノ― \n3月29日（日）11:00-11:40\nDMMブース内ステージ \n【登壇者】\n堀江瞬、雨宮天、東山奈央
URL:https://blue10works.com/event/%e3%80%90%e3%82%a4%e3%83%99%e3%83%b3%e3%83%88%e3%80%91%e5%bd%bc%e5%a5%b3%e3%81%8a%e5%80%9f%e3%82%8a%e3%81%97%e3%81%be%e3%81%99-%e7%ac%ac5%e6%9c%9f%e7%9b%b4%e5%89%8d%ef%bc%81-%e3%83%88%e3%83%bc/
END:VEVENT
END:VCALENDAR