BEGIN:VCALENDAR
VERSION:2.0
PRODID:-//声優・雨宮天 お仕事非公式データベース - ECPv6.15.20//NONSGML v1.0//EN
CALSCALE:GREGORIAN
METHOD:PUBLISH
X-WR-CALNAME:声優・雨宮天 お仕事非公式データベース
X-ORIGINAL-URL:https://blue10works.com
X-WR-CALDESC:声優・雨宮天 お仕事非公式データベース のイベント
REFRESH-INTERVAL;VALUE=DURATION:PT1H
X-Robots-Tag:noindex
X-PUBLISHED-TTL:PT1H
BEGIN:VTIMEZONE
TZID:Asia/Tokyo
BEGIN:STANDARD
TZOFFSETFROM:+0900
TZOFFSETTO:+0900
TZNAME:JST
DTSTART:20250101T000000
END:STANDARD
END:VTIMEZONE
BEGIN:VEVENT
DTSTART;VALUE=DATE:20260313
DTEND;VALUE=DATE:20260314
DTSTAMP:20260422T191653
CREATED:20260313T092858Z
LAST-MODIFIED:20260313T092858Z
UID:14276-1773360000-1773446399@blue10works.com
SUMMARY:【Web掲載】テレビアニメ「彼女、お借りします。 第5期」キャストコメント（作品公式サイト）
DESCRIPTION:https://kanokari-official.com/ \n 
URL:https://blue10works.com/event/%e3%80%90web%e6%8e%b2%e8%bc%89%e3%80%91%e3%83%86%e3%83%ac%e3%83%93%e3%82%a2%e3%83%8b%e3%83%a1%e3%80%8c%e5%bd%bc%e5%a5%b3%e3%80%81%e3%81%8a%e5%80%9f%e3%82%8a%e3%81%97%e3%81%be%e3%81%99%e3%80%82/
END:VEVENT
BEGIN:VEVENT
DTSTART;VALUE=DATE:20260313
DTEND;VALUE=DATE:20260314
DTSTAMP:20260422T191653
CREATED:20260313T110432Z
LAST-MODIFIED:20260313T110432Z
UID:14289-1773360000-1773446399@blue10works.com
SUMMARY:【Webアニメ】ミニアニメ「彼女、お借りします ぷち season4 振り返り」#8（水原千鶴 役）
DESCRIPTION:https://x.com/kanokari_anime/status/2032411355945513261 \n 
URL:https://blue10works.com/event/%e3%80%90web%e3%82%a2%e3%83%8b%e3%83%a1%e3%80%91%e3%83%9f%e3%83%8b%e3%82%a2%e3%83%8b%e3%83%a1%e3%80%8c%e5%bd%bc%e5%a5%b3%e3%80%81%e3%81%8a%e5%80%9f%e3%82%8a%e3%81%97%e3%81%be%e3%81%99-%e3%81%b7-3/
END:VEVENT
END:VCALENDAR