BEGIN:VCALENDAR
VERSION:2.0
PRODID:-//声優・雨宮天 お仕事非公式データベース - ECPv6.15.20//NONSGML v1.0//EN
CALSCALE:GREGORIAN
METHOD:PUBLISH
X-ORIGINAL-URL:https://blue10works.com
X-WR-CALDESC:声優・雨宮天 お仕事非公式データベース のイベント
REFRESH-INTERVAL;VALUE=DURATION:PT1H
X-Robots-Tag:noindex
X-PUBLISHED-TTL:PT1H
BEGIN:VTIMEZONE
TZID:Asia/Tokyo
BEGIN:STANDARD
TZOFFSETFROM:+0900
TZOFFSETTO:+0900
TZNAME:JST
DTSTART:20250101T000000
END:STANDARD
END:VTIMEZONE
BEGIN:VEVENT
DTSTART;VALUE=DATE:20260205
DTEND;VALUE=DATE:20260206
DTSTAMP:20260422T204253
CREATED:20260205T093215Z
LAST-MODIFIED:20260205T093215Z
UID:13495-1770249600-1770335999@blue10works.com
SUMMARY:【Web掲載】「彼女、お借りします season5 」オープニングテーマ決定 アーティストコメント
DESCRIPTION:https://kanokari-official.com/music/ \n 
URL:https://blue10works.com/event/%e3%80%90web%e6%8e%b2%e8%bc%89%e3%80%91%e3%80%8c%e5%bd%bc%e5%a5%b3%e3%80%81%e3%81%8a%e5%80%9f%e3%82%8a%e3%81%97%e3%81%be%e3%81%99-season5-%e3%80%8d%e3%82%aa%e3%83%bc%e3%83%97%e3%83%8b%e3%83%b3/
END:VEVENT
BEGIN:VEVENT
DTSTART;VALUE=DATE:20260205
DTEND;VALUE=DATE:20260206
DTSTAMP:20260422T204253
CREATED:20260205T110559Z
LAST-MODIFIED:20260205T110559Z
UID:13512-1770249600-1770335999@blue10works.com
SUMMARY:【Web出演】「彼女、お借りします Season4 かのかりスポット巡り！in TDC Vol.5 ビッグ・オー！」
DESCRIPTION:https://x.com/kanokari_anime/status/2019365388723892358 \n 
URL:https://blue10works.com/event/%e3%80%90web%e5%87%ba%e6%bc%94%e3%80%91%e3%80%8c%e5%bd%bc%e5%a5%b3%e3%80%81%e3%81%8a%e5%80%9f%e3%82%8a%e3%81%97%e3%81%be%e3%81%99-season4-%e3%81%8b%e3%81%ae%e3%81%8b%e3%82%8a%e3%82%b9%e3%83%9d-2/
END:VEVENT
END:VCALENDAR