BEGIN:VCALENDAR
VERSION:2.0
PRODID:-//声優・雨宮天 お仕事非公式データベース - ECPv6.15.20//NONSGML v1.0//EN
CALSCALE:GREGORIAN
METHOD:PUBLISH
X-WR-CALNAME:声優・雨宮天 お仕事非公式データベース
X-ORIGINAL-URL:https://blue10works.com
X-WR-CALDESC:声優・雨宮天 お仕事非公式データベース のイベント
REFRESH-INTERVAL;VALUE=DURATION:PT1H
X-Robots-Tag:noindex
X-PUBLISHED-TTL:PT1H
BEGIN:VTIMEZONE
TZID:Asia/Tokyo
BEGIN:STANDARD
TZOFFSETFROM:+0900
TZOFFSETTO:+0900
TZNAME:JST
DTSTART:20250101T000000
END:STANDARD
END:VTIMEZONE
BEGIN:VEVENT
DTSTART;VALUE=DATE:20260130
DTEND;VALUE=DATE:20260131
DTSTAMP:20260422T232511
CREATED:20260130T091908Z
LAST-MODIFIED:20260130T091908Z
UID:13402-1769731200-1769817599@blue10works.com
SUMMARY:【Webアニメ】TVアニメ『彼女、お借りします』「かのかり ぷち」 第4期振り返りミニアニメ 2話(水原千鶴 役)
DESCRIPTION:https://x.com/kanokari_anime/status/2017160989343674497
URL:https://blue10works.com/event/%e3%80%90web%e3%82%a2%e3%83%8b%e3%83%a1%e3%80%91tv%e3%82%a2%e3%83%8b%e3%83%a1%e3%80%8e%e5%bd%bc%e5%a5%b3%e3%80%81%e3%81%8a%e5%80%9f%e3%82%8a%e3%81%97%e3%81%be%e3%81%99%e3%80%8f%e3%80%8c%e3%81%8b/
END:VEVENT
END:VCALENDAR