BEGIN:VCALENDAR
VERSION:2.0
PRODID:-//声優・雨宮天 お仕事非公式データベース - ECPv6.15.20//NONSGML v1.0//EN
CALSCALE:GREGORIAN
METHOD:PUBLISH
X-ORIGINAL-URL:https://blue10works.com
X-WR-CALDESC:声優・雨宮天 お仕事非公式データベース のイベント
REFRESH-INTERVAL;VALUE=DURATION:PT1H
X-Robots-Tag:noindex
X-PUBLISHED-TTL:PT1H
BEGIN:VTIMEZONE
TZID:Asia/Tokyo
BEGIN:STANDARD
TZOFFSETFROM:+0900
TZOFFSETTO:+0900
TZNAME:JST
DTSTART:20240101T000000
END:STANDARD
END:VTIMEZONE
BEGIN:VEVENT
DTSTART;VALUE=DATE:20250504
DTEND;VALUE=DATE:20250505
DTSTAMP:20260422T194831
CREATED:20250505T194928Z
LAST-MODIFIED:20250505T194928Z
UID:2244-1746316800-1746403199@blue10works.com
SUMMARY:【ブログ】『東京タワー』朗読劇
DESCRIPTION:https://ameblo.jp/amamiyasorablog/entry-12900321659.html
URL:https://blue10works.com/event/%e3%80%90%e3%83%96%e3%83%ad%e3%82%b0%e3%80%91%e3%80%8e%e6%9d%b1%e4%ba%ac%e3%82%bf%e3%83%af%e3%83%bc%e3%80%8f%e6%9c%97%e8%aa%ad%e5%8a%87/
END:VEVENT
END:VCALENDAR