BEGIN:VCALENDAR
VERSION:2.0
PRODID:-//声優・雨宮天 お仕事非公式データベース - ECPv6.15.20//NONSGML v1.0//EN
CALSCALE:GREGORIAN
METHOD:PUBLISH
X-ORIGINAL-URL:https://blue10works.com
X-WR-CALDESC:声優・雨宮天 お仕事非公式データベース のイベント
REFRESH-INTERVAL;VALUE=DURATION:PT1H
X-Robots-Tag:noindex
X-PUBLISHED-TTL:PT1H
BEGIN:VTIMEZONE
TZID:Asia/Tokyo
BEGIN:STANDARD
TZOFFSETFROM:+0900
TZOFFSETTO:+0900
TZNAME:JST
DTSTART:20130101T000000
END:STANDARD
END:VTIMEZONE
BEGIN:VEVENT
DTSTART;VALUE=DATE:20140920
DTEND;VALUE=DATE:20140921
DTSTAMP:20260421T172224
CREATED:20250802T072024Z
LAST-MODIFIED:20250802T072543Z
UID:5875-1411171200-1411257599@blue10works.com
SUMMARY:【イベント】京都国際マンガ・アニメフェア(京まふ)2014 1日目 「七つの大罪」豚の帽子亭開店イベント
DESCRIPTION:
URL:https://blue10works.com/event/%e3%80%90%e3%82%a4%e3%83%99%e3%83%b3%e3%83%88%e3%80%91%e4%ba%ac%e9%83%bd%e5%9b%bd%e9%9a%9b%e3%83%9e%e3%83%b3%e3%82%ac%e3%83%bb%e3%82%a2%e3%83%8b%e3%83%a1%e3%83%95%e3%82%a7%e3%82%a2%e4%ba%ac%e3%81%be/
END:VEVENT
END:VCALENDAR