BEGIN:VCALENDAR
VERSION:2.0
PRODID:-//声優・雨宮天 お仕事非公式データベース - ECPv6.15.20//NONSGML v1.0//EN
CALSCALE:GREGORIAN
METHOD:PUBLISH
X-WR-CALNAME:声優・雨宮天 お仕事非公式データベース
X-ORIGINAL-URL:https://blue10works.com
X-WR-CALDESC:声優・雨宮天 お仕事非公式データベース のイベント
REFRESH-INTERVAL;VALUE=DURATION:PT1H
X-Robots-Tag:noindex
X-PUBLISHED-TTL:PT1H
BEGIN:VTIMEZONE
TZID:Asia/Tokyo
BEGIN:STANDARD
TZOFFSETFROM:+0900
TZOFFSETTO:+0900
TZNAME:JST
DTSTART:20130101T000000
END:STANDARD
END:VTIMEZONE
BEGIN:VEVENT
DTSTART;VALUE=DATE:20140707
DTEND;VALUE=DATE:20140708
DTSTAMP:20260423T015238
CREATED:20250801T182324Z
LAST-MODIFIED:20250801T182324Z
UID:5680-1404691200-1404777599@blue10works.com
SUMMARY:【映像】「トモダチ 対談インタビュー」（冊子）/香織の日記（6月27日金曜日\, 7月3木曜日 特別版)/キャストスペシャルトーク 完全版
DESCRIPTION:一週間フレンズ。 3 初回生産限定特典
URL:https://blue10works.com/event/%e3%80%90%e6%98%a0%e5%83%8f%e3%80%91%e3%80%8c%e3%83%88%e3%83%a2%e3%83%80%e3%83%81-%e5%af%be%e8%ab%87%e3%82%a4%e3%83%b3%e3%82%bf%e3%83%93%e3%83%a5%e3%83%bc%e3%80%8d%ef%bc%88%e5%86%8a%e5%ad%90%ef%bc%89/
END:VEVENT
END:VCALENDAR