BEGIN:VCALENDAR
VERSION:2.0
PRODID:-//声優・雨宮天 お仕事非公式データベース - ECPv6.15.20//NONSGML v1.0//EN
CALSCALE:GREGORIAN
METHOD:PUBLISH
X-ORIGINAL-URL:https://blue10works.com
X-WR-CALDESC:声優・雨宮天 お仕事非公式データベース のイベント
REFRESH-INTERVAL;VALUE=DURATION:PT1H
X-Robots-Tag:noindex
X-PUBLISHED-TTL:PT1H
BEGIN:VTIMEZONE
TZID:Asia/Tokyo
BEGIN:STANDARD
TZOFFSETFROM:+0900
TZOFFSETTO:+0900
TZNAME:JST
DTSTART:20130101T000000
END:STANDARD
END:VTIMEZONE
BEGIN:VEVENT
DTSTART;VALUE=DATE:20140605
DTEND;VALUE=DATE:20140606
DTSTAMP:20260423T021914
CREATED:20250801T165555Z
LAST-MODIFIED:20250801T172556Z
UID:5536-1401926400-1402012799@blue10works.com
SUMMARY:【Web出演】「アニメ『一週間フレンズ。』メインキャストスペシャルトーク＜後編＞」
DESCRIPTION:出演：山谷祥生、細谷佳正、大久保瑠美、浅沼晋太郎
URL:https://blue10works.com/event/%e3%80%90web%e5%87%ba%e6%bc%94%e3%80%91%e3%80%8c%e3%82%a2%e3%83%8b%e3%83%a1%e3%80%8e%e4%b8%80%e9%80%b1%e9%96%93%e3%83%95%e3%83%ac%e3%83%b3%e3%82%ba%e3%80%82%e3%80%8f%e3%83%a1%e3%82%a4%e3%83%b3-2/
END:VEVENT
BEGIN:VEVENT
DTSTART;VALUE=DATE:20140605
DTEND;VALUE=DATE:20140606
DTSTAMP:20260423T021914
CREATED:20250801T165555Z
LAST-MODIFIED:20250801T172528Z
UID:5535-1401926400-1402012799@blue10works.com
SUMMARY:【Web出演】「アニメ『一週間フレンズ。』メインキャストスペシャルトーク＜前編＞」
DESCRIPTION:出演：山谷祥生、細谷佳正、大久保瑠美、浅沼晋太郎
URL:https://blue10works.com/event/%e3%80%90web%e5%87%ba%e6%bc%94%e3%80%91%e3%80%8c%e3%82%a2%e3%83%8b%e3%83%a1%e3%80%8e%e4%b8%80%e9%80%b1%e9%96%93%e3%83%95%e3%83%ac%e3%83%b3%e3%82%ba%e3%80%82%e3%80%8f%e3%83%a1%e3%82%a4%e3%83%b3/
END:VEVENT
END:VCALENDAR