BEGIN:VCALENDAR
VERSION:2.0
PRODID:-//声優・雨宮天 お仕事非公式データベース - ECPv6.15.20//NONSGML v1.0//EN
CALSCALE:GREGORIAN
METHOD:PUBLISH
X-WR-CALNAME:声優・雨宮天 お仕事非公式データベース
X-ORIGINAL-URL:https://blue10works.com
X-WR-CALDESC:声優・雨宮天 お仕事非公式データベース のイベント
REFRESH-INTERVAL;VALUE=DURATION:PT1H
X-Robots-Tag:noindex
X-PUBLISHED-TTL:PT1H
BEGIN:VTIMEZONE
TZID:Asia/Tokyo
BEGIN:STANDARD
TZOFFSETFROM:+0900
TZOFFSETTO:+0900
TZNAME:JST
DTSTART:20240101T000000
END:STANDARD
END:VTIMEZONE
BEGIN:VEVENT
DTSTART;VALUE=DATE:20250312
DTEND;VALUE=DATE:20250313
DTSTAMP:20260422T062242
CREATED:20250313T100213Z
LAST-MODIFIED:20250314T181325Z
UID:1213-1741737600-1741823999@blue10works.com
SUMMARY:【TVアニメ】マジック・メイカー ～異世界魔法の作り方～ （ローズ 役）10話
DESCRIPTION:
URL:https://blue10works.com/event/%e3%80%90%e3%82%a2%e3%83%8b%e3%83%a1%e3%80%91tv%e3%82%a2%e3%83%8b%e3%83%a1%e3%80%8c%e3%83%9e%e3%82%b8%e3%83%83%e3%82%af%e3%83%bb%e3%83%a1%e3%82%a4%e3%82%ab%e3%83%bc-%ef%bd%9e%e7%95%b0%e4%b8%96-2/
END:VEVENT
END:VCALENDAR