BEGIN:VCALENDAR
VERSION:2.0
PRODID:-//声優・雨宮天 お仕事非公式データベース - ECPv6.15.20//NONSGML v1.0//EN
CALSCALE:GREGORIAN
METHOD:PUBLISH
X-WR-CALNAME:声優・雨宮天 お仕事非公式データベース
X-ORIGINAL-URL:https://blue10works.com
X-WR-CALDESC:声優・雨宮天 お仕事非公式データベース のイベント
REFRESH-INTERVAL;VALUE=DURATION:PT1H
X-Robots-Tag:noindex
X-PUBLISHED-TTL:PT1H
BEGIN:VTIMEZONE
TZID:Asia/Tokyo
BEGIN:STANDARD
TZOFFSETFROM:+0900
TZOFFSETTO:+0900
TZNAME:JST
DTSTART:20240101T000000
END:STANDARD
END:VTIMEZONE
BEGIN:VEVENT
DTSTART;VALUE=DATE:20250227
DTEND;VALUE=DATE:20250228
DTSTAMP:20260423T025537
CREATED:20251221T115955Z
LAST-MODIFIED:20251221T115955Z
UID:11741-1740614400-1740700799@blue10works.com
SUMMARY:【TVアニメ】「マジック・メイカー 〜異世界魔法の作り方〜」8話（ローズ 役）
DESCRIPTION:
URL:https://blue10works.com/event/%e3%80%90tv%e3%82%a2%e3%83%8b%e3%83%a1%e3%80%91%e3%80%8c%e3%83%9e%e3%82%b8%e3%83%83%e3%82%af%e3%83%bb%e3%83%a1%e3%82%a4%e3%82%ab%e3%83%bc-%e3%80%9c%e7%95%b0%e4%b8%96%e7%95%8c%e9%ad%94%e6%b3%95-8/
END:VEVENT
END:VCALENDAR