BEGIN:VCALENDAR
VERSION:2.0
PRODID:-//声優・雨宮天 お仕事非公式データベース - ECPv6.15.20//NONSGML v1.0//EN
CALSCALE:GREGORIAN
METHOD:PUBLISH
X-ORIGINAL-URL:https://blue10works.com
X-WR-CALDESC:声優・雨宮天 お仕事非公式データベース のイベント
REFRESH-INTERVAL;VALUE=DURATION:PT1H
X-Robots-Tag:noindex
X-PUBLISHED-TTL:PT1H
BEGIN:VTIMEZONE
TZID:Asia/Tokyo
BEGIN:STANDARD
TZOFFSETFROM:+0900
TZOFFSETTO:+0900
TZNAME:JST
DTSTART:20240101T000000
END:STANDARD
END:VTIMEZONE
BEGIN:VEVENT
DTSTART;VALUE=DATE:20250222
DTEND;VALUE=DATE:20250223
DTSTAMP:20260425T092425
CREATED:20251221T133555Z
LAST-MODIFIED:20251222T125712Z
UID:11902-1740182400-1740268799@blue10works.com
SUMMARY:【Web掲載】「ローズ役・雨宮天さんが語るTVアニメ『マジック・メイカー』７話──【12週連続企画】各話放送後キャストインタビュー」（キミラノ）
DESCRIPTION:https://mequrimequru.jp/articles/details/1246426/ \n 
URL:https://blue10works.com/event/%e3%80%90web%e6%8e%b2%e8%bc%89%e3%80%91%e3%80%8c%e3%83%ad%e3%83%bc%e3%82%ba%e5%bd%b9%e3%83%bb%e9%9b%a8%e5%ae%ae%e5%a4%a9%e3%81%95%e3%82%93%e3%81%8c%e8%aa%9e%e3%82%8btv%e3%82%a2%e3%83%8b%e3%83%a1/
END:VEVENT
END:VCALENDAR