BEGIN:VCALENDAR
VERSION:2.0
PRODID:-//声優・雨宮天 お仕事非公式データベース - ECPv6.15.20//NONSGML v1.0//EN
CALSCALE:GREGORIAN
METHOD:PUBLISH
X-WR-CALNAME:声優・雨宮天 お仕事非公式データベース
X-ORIGINAL-URL:https://blue10works.com
X-WR-CALDESC:声優・雨宮天 お仕事非公式データベース のイベント
REFRESH-INTERVAL;VALUE=DURATION:PT1H
X-Robots-Tag:noindex
X-PUBLISHED-TTL:PT1H
BEGIN:VTIMEZONE
TZID:Asia/Tokyo
BEGIN:STANDARD
TZOFFSETFROM:+0900
TZOFFSETTO:+0900
TZNAME:JST
DTSTART:20240101T000000
END:STANDARD
END:VTIMEZONE
BEGIN:VEVENT
DTSTART;VALUE=DATE:20250111
DTEND;VALUE=DATE:20250112
DTSTAMP:20260426T082530
CREATED:20251221T120333Z
LAST-MODIFIED:20251221T120333Z
UID:11749-1736553600-1736639999@blue10works.com
SUMMARY:【Web掲載】潘めぐみさん×加隈亜衣さん×雨宮天さんが語るTVアニメ『マジック・メイカー』──【12週連続企画】各話放送後キャストインタビュ
DESCRIPTION:https://kimirano.jp/article/detail/1237405 \n 
URL:https://blue10works.com/event/%e3%80%90web%e6%8e%b2%e8%bc%89%e3%80%91%e6%bd%98%e3%82%81%e3%81%90%e3%81%bf%e3%81%95%e3%82%93x%e5%8a%a0%e9%9a%88%e4%ba%9c%e8%a1%a3%e3%81%95%e3%82%93x%e9%9b%a8%e5%ae%ae%e5%a4%a9%e3%81%95/
END:VEVENT
END:VCALENDAR