BEGIN:VCALENDAR
VERSION:2.0
PRODID:-//声優・雨宮天 お仕事非公式データベース - ECPv6.15.20//NONSGML v1.0//EN
CALSCALE:GREGORIAN
METHOD:PUBLISH
X-WR-CALNAME:声優・雨宮天 お仕事非公式データベース
X-ORIGINAL-URL:https://blue10works.com
X-WR-CALDESC:声優・雨宮天 お仕事非公式データベース のイベント
REFRESH-INTERVAL;VALUE=DURATION:PT1H
X-Robots-Tag:noindex
X-PUBLISHED-TTL:PT1H
BEGIN:VTIMEZONE
TZID:Asia/Tokyo
BEGIN:STANDARD
TZOFFSETFROM:+0900
TZOFFSETTO:+0900
TZNAME:JST
DTSTART:20130101T000000
END:STANDARD
END:VTIMEZONE
BEGIN:VEVENT
DTSTART;VALUE=DATE:20140815
DTEND;VALUE=DATE:20140816
DTSTAMP:20260420T064730
CREATED:20250802T053045Z
LAST-MODIFIED:20250802T053046Z
UID:5818-1408060800-1408147199@blue10works.com
SUMMARY:【雑誌】ALDNOAH.ZERO ARCHIVEZ（イベントパンフ販売）
DESCRIPTION:花江夏樹×小野賢章×雨宮天 鼎談
URL:https://blue10works.com/event/%e3%80%90%e9%9b%91%e8%aa%8c%e3%80%91aldnoah-zero-archivez%ef%bc%88%e3%82%a4%e3%83%99%e3%83%b3%e3%83%88%e3%83%91%e3%83%b3%e3%83%95%e8%b2%a9%e5%a3%b2%ef%bc%89/
END:VEVENT
END:VCALENDAR