BEGIN:VCALENDAR
VERSION:2.0
PRODID:-//声優・雨宮天 お仕事非公式データベース - ECPv6.15.20//NONSGML v1.0//EN
CALSCALE:GREGORIAN
METHOD:PUBLISH
X-ORIGINAL-URL:https://blue10works.com
X-WR-CALDESC:声優・雨宮天 お仕事非公式データベース のイベント
REFRESH-INTERVAL;VALUE=DURATION:PT1H
X-Robots-Tag:noindex
X-PUBLISHED-TTL:PT1H
BEGIN:VTIMEZONE
TZID:Asia/Tokyo
BEGIN:STANDARD
TZOFFSETFROM:+0900
TZOFFSETTO:+0900
TZNAME:JST
DTSTART:20130101T000000
END:STANDARD
END:VTIMEZONE
BEGIN:VEVENT
DTSTART;VALUE=DATE:20140702
DTEND;VALUE=DATE:20140703
DTSTAMP:20260420T081227
CREATED:20250801T180602Z
LAST-MODIFIED:20250801T183753Z
UID:5614-1404259200-1404345599@blue10works.com
SUMMARY:【ナレーション】「アルドノア･ゼロ 特番“COUNT TO A/Z”」
DESCRIPTION:
URL:https://blue10works.com/event/%e3%80%90%e3%83%8a%e3%83%ac%e3%83%bc%e3%82%b7%e3%83%a7%e3%83%b3%e3%80%91%e3%80%8c%e3%82%a2%e3%83%ab%e3%83%89%e3%83%8e%e3%82%a2%ef%bd%a5%e3%82%bc%e3%83%ad-%e7%89%b9%e7%95%aacount-to-a-z/
END:VEVENT
END:VCALENDAR