BEGIN:VCALENDAR
VERSION:2.0
PRODID:-//声優・雨宮天 お仕事非公式データベース - ECPv6.15.20//NONSGML v1.0//EN
CALSCALE:GREGORIAN
METHOD:PUBLISH
X-WR-CALNAME:声優・雨宮天 お仕事非公式データベース
X-ORIGINAL-URL:https://blue10works.com
X-WR-CALDESC:声優・雨宮天 お仕事非公式データベース のイベント
REFRESH-INTERVAL;VALUE=DURATION:PT1H
X-Robots-Tag:noindex
X-PUBLISHED-TTL:PT1H
BEGIN:VTIMEZONE
TZID:Asia/Tokyo
BEGIN:STANDARD
TZOFFSETFROM:+0900
TZOFFSETTO:+0900
TZNAME:JST
DTSTART:20130101T000000
END:STANDARD
END:VTIMEZONE
BEGIN:VEVENT
DTSTART;VALUE=DATE:20141108
DTEND;VALUE=DATE:20141109
DTSTAMP:20260422T194649
CREATED:20250802T161812Z
LAST-MODIFIED:20250802T161812Z
UID:6101-1415404800-1415491199@blue10works.com
SUMMARY:【雑誌】リスアニ！ Vol.19
DESCRIPTION:https://x.com/Lis_Ani/status/532547662038323200
URL:https://blue10works.com/event/%e3%80%90%e9%9b%91%e8%aa%8c%e3%80%91%e3%83%aa%e3%82%b9%e3%82%a2%e3%83%8b%ef%bc%81-vol-19/
END:VEVENT
BEGIN:VEVENT
DTSTART;VALUE=DATE:20141108
DTEND;VALUE=DATE:20141109
DTSTAMP:20260422T194649
CREATED:20250802T161812Z
LAST-MODIFIED:20250802T161812Z
UID:6102-1415404800-1415491199@blue10works.com
SUMMARY:【TV出演】「リスアニ！PREMIUM」：月灯り
DESCRIPTION:
URL:https://blue10works.com/event/%e3%80%90tv%e5%87%ba%e6%bc%94%e3%80%91%e3%80%8c%e3%83%aa%e3%82%b9%e3%82%a2%e3%83%8b%ef%bc%81premium%e3%80%8d%ef%bc%9a%e6%9c%88%e7%81%af%e3%82%8a/
END:VEVENT
END:VCALENDAR