BEGIN:VCALENDAR
VERSION:2.0
PRODID:-//声優・雨宮天 お仕事非公式データベース - ECPv6.15.20//NONSGML v1.0//EN
CALSCALE:GREGORIAN
METHOD:PUBLISH
X-ORIGINAL-URL:https://blue10works.com
X-WR-CALDESC:声優・雨宮天 お仕事非公式データベース のイベント
REFRESH-INTERVAL;VALUE=DURATION:PT1H
X-Robots-Tag:noindex
X-PUBLISHED-TTL:PT1H
BEGIN:VTIMEZONE
TZID:Asia/Tokyo
BEGIN:STANDARD
TZOFFSETFROM:+0900
TZOFFSETTO:+0900
TZNAME:JST
DTSTART:20240101T000000
END:STANDARD
END:VTIMEZONE
BEGIN:VEVENT
DTSTART;VALUE=DATE:20250413
DTEND;VALUE=DATE:20250414
DTSTAMP:20260422T025433
CREATED:20251229T124756Z
LAST-MODIFIED:20251229T124756Z
UID:12123-1744502400-1744588799@blue10works.com
SUMMARY:【PV】がんばっていきまっしょい 豪華版Blu-ray＆通常版DVD 発売まであと3日
DESCRIPTION:https://x.com/ganbatte_anime/status/1911343602426675272 \n 
URL:https://blue10works.com/event/%e3%80%90pv%e3%80%91%e3%81%8c%e3%82%93%e3%81%b0%e3%81%a3%e3%81%a6%e3%81%84%e3%81%8d%e3%81%be%e3%81%a3%e3%81%97%e3%82%87%e3%81%84-%e8%b1%aa%e8%8f%af%e7%89%88blu-ray%ef%bc%86%e9%80%9a%e5%b8%b8-2/
END:VEVENT
END:VCALENDAR