BEGIN:VCALENDAR
VERSION:2.0
PRODID:-//声優・雨宮天 お仕事非公式データベース - ECPv6.15.20//NONSGML v1.0//EN
CALSCALE:GREGORIAN
METHOD:PUBLISH
X-WR-CALNAME:声優・雨宮天 お仕事非公式データベース
X-ORIGINAL-URL:https://blue10works.com
X-WR-CALDESC:声優・雨宮天 お仕事非公式データベース のイベント
REFRESH-INTERVAL;VALUE=DURATION:PT1H
X-Robots-Tag:noindex
X-PUBLISHED-TTL:PT1H
BEGIN:VTIMEZONE
TZID:Asia/Tokyo
BEGIN:STANDARD
TZOFFSETFROM:+0900
TZOFFSETTO:+0900
TZNAME:JST
DTSTART:20240101T000000
END:STANDARD
END:VTIMEZONE
BEGIN:VEVENT
DTSTART;VALUE=DATE:20251125
DTEND;VALUE=DATE:20251126
DTSTAMP:20260422T084718
CREATED:20251125T120654Z
LAST-MODIFIED:20251125T120654Z
UID:11136-1764028800-1764115199@blue10works.com
SUMMARY:ボイスコミック「環境省×アイドルマスター ミリオンライブ！リチウムイオン電池による火災防止強化キャンペーン ボイス付き4コマ動画」 （北沢志保 役）4話
DESCRIPTION:https://www.youtube.com/watch?v=fZfIL9-Ckpo&feature=youtu.be
URL:https://blue10works.com/event/%e3%83%9c%e3%82%a4%e3%82%b9%e3%82%b3%e3%83%9f%e3%83%83%e3%82%af%e3%80%8c%e7%92%b0%e5%a2%83%e7%9c%81x%e3%82%a2%e3%82%a4%e3%83%89%e3%83%ab%e3%83%9e%e3%82%b9%e3%82%bf%e3%83%bc-%e3%83%9f%e3%83%aa/
END:VEVENT
END:VCALENDAR