BEGIN:VCALENDAR
VERSION:2.0
PRODID:-//声優・雨宮天 お仕事非公式データベース - ECPv6.15.20//NONSGML v1.0//EN
CALSCALE:GREGORIAN
METHOD:PUBLISH
X-ORIGINAL-URL:https://blue10works.com
X-WR-CALDESC:声優・雨宮天 お仕事非公式データベース のイベント
REFRESH-INTERVAL;VALUE=DURATION:PT1H
X-Robots-Tag:noindex
X-PUBLISHED-TTL:PT1H
BEGIN:VTIMEZONE
TZID:Asia/Tokyo
BEGIN:STANDARD
TZOFFSETFROM:+0900
TZOFFSETTO:+0900
TZNAME:JST
DTSTART:20240101T000000
END:STANDARD
END:VTIMEZONE
BEGIN:VEVENT
DTSTART;VALUE=DATE:20250331
DTEND;VALUE=DATE:20250401
DTSTAMP:20260422T204353
CREATED:20250319T102928Z
LAST-MODIFIED:20250331T135306Z
UID:1315-1743379200-1743465599@blue10works.com
SUMMARY:【キャラソン】THE IDOLM@STER LIVE THE@TER SOLO COLLECTION 14 FAIRY STARS
DESCRIPTION:https://lantis.jp/news.php?id=1742271115 \n発売日：2025年3月29日（土）※延期\nタイトル：THE IDOLM@STER LIVE THE@TER SOLO COLLECTION 14 FAIRY STARS\nアーティスト：V.A.\n品番：LACZ-10273\n価格：3\,300円(10%税込)/3\,000円(税抜) \n■INDEX\n01：サウンド・オブ・ビギニング\n作詞：真崎エリカ　作曲：本多友紀 (Arte Refact)　編曲：脇 眞富 (Arte Refact)\n歌：ロコ (CV.中村温姫) \n02：真夏のダイヤ☆\n作詞・作曲・編曲：三浦誠司\n歌：百瀬莉緒 (CV.山口立花子) \n03：夢みがちBride\n作詞：結城アイラ　作曲：結城アイラ・PandaBoY　編曲：PandaBoY\n歌：真壁瑞希 (CV.阿部里果) \n04：月曜日のクリームソーダ\n作詞：安藤紗々　作曲：原 知也　編曲：ラムシーニ\n歌：舞浜 歩 (CV.戸田めぐみ) \n05：深紅のパシオン\n作詞：leonn　作曲：日比野裕史　編曲：渡辺徹×日比野裕史\n歌：ジュリア (CV.愛美) \n06：Paradox of LOVE\n作詞：小松レナ 作曲：BOUNCEBACK　編曲：清水武仁\n歌：二階堂千鶴 (CV.野村香菜子) \n07：Melty Fantasia\n作詞：モリタコータ　作曲・編曲：小高光太郎\n歌：白石 紬 (CV.南 早紀) \n08：花びらメモリーズ\n作詞：真崎エリカ　作曲：本多友紀 (Arte Refact)　編曲：脇 眞富 (Arte Refact)\n歌：周防桃子 (CV.渡部恵子) \n09：リベレイシング／アロン -LiberaSing Along-\n作詞：松井洋平　作曲・編曲：高瀬一矢\n歌：天空橋朋花 (CV.小岩井ことり) \n10：ESPADA\n作詞：松井洋平　作曲・編曲：堀江晶太\n歌：北沢志保 (CV.雨宮 天) \n11：dans l’obscurité\n作詞：中村彼方　作曲・編曲：大和\n歌：永吉 昴 (CV.斉藤佑圭) \n12：brave HARMONY\n作詞：結城アイラ　作曲・編曲：山口朗彦\n歌：所 恵美 (CV.藤井ゆきよ) \n13：君との明日を願うから\n作詞：真崎エリカ　作曲：原田 篤 (Arte Refact)　編曲：酒井拓也 (Arte Refact)\n歌：最上静香 (CV.田所あずさ)
URL:https://blue10works.com/event/%e3%80%90%e7%99%ba%e5%a3%b2%e3%80%91the-idolmster-live-theter-solo-collection-14-fairy-stars/
END:VEVENT
END:VCALENDAR