BEGIN:VCALENDAR
VERSION:2.0
PRODID:-//声優・雨宮天 お仕事非公式データベース - ECPv6.15.20//NONSGML v1.0//EN
CALSCALE:GREGORIAN
METHOD:PUBLISH
X-WR-CALNAME:声優・雨宮天 お仕事非公式データベース
X-ORIGINAL-URL:https://blue10works.com
X-WR-CALDESC:声優・雨宮天 お仕事非公式データベース のイベント
REFRESH-INTERVAL;VALUE=DURATION:PT1H
X-Robots-Tag:noindex
X-PUBLISHED-TTL:PT1H
BEGIN:VTIMEZONE
TZID:Asia/Tokyo
BEGIN:STANDARD
TZOFFSETFROM:+0900
TZOFFSETTO:+0900
TZNAME:JST
DTSTART:20240101T000000
END:STANDARD
END:VTIMEZONE
BEGIN:VEVENT
DTSTART;VALUE=DATE:20250201
DTEND;VALUE=DATE:20250217
DTSTAMP:20260423T005104
CREATED:20251221T125144Z
LAST-MODIFIED:20251221T125144Z
UID:11817-1738368000-1739750399@blue10works.com
SUMMARY:【館内放送】館内放送「アイドルマスター ミリオンライブ！ミステイク・マーダー！POP UP SHOP in ボークス秋葉原ホビー天国2 特別店内放送」（北沢志保 役）
DESCRIPTION:https://idolmaster-official.jp/news/01_14300 \n 
URL:https://blue10works.com/event/%e3%80%90%e9%a4%a8%e5%86%85%e6%94%be%e9%80%81%e3%80%91%e9%a4%a8%e5%86%85%e6%94%be%e9%80%81%e3%80%8c%e3%82%a2%e3%82%a4%e3%83%89%e3%83%ab%e3%83%9e%e3%82%b9%e3%82%bf%e3%83%bc-%e3%83%9f%e3%83%aa%e3%82%aa/
END:VEVENT
END:VCALENDAR