BEGIN:VCALENDAR
VERSION:2.0
PRODID:-//声優・雨宮天 お仕事非公式データベース - ECPv6.15.20//NONSGML v1.0//EN
CALSCALE:GREGORIAN
METHOD:PUBLISH
X-ORIGINAL-URL:https://blue10works.com
X-WR-CALDESC:声優・雨宮天 お仕事非公式データベース のイベント
REFRESH-INTERVAL;VALUE=DURATION:PT1H
X-Robots-Tag:noindex
X-PUBLISHED-TTL:PT1H
BEGIN:VTIMEZONE
TZID:Asia/Tokyo
BEGIN:STANDARD
TZOFFSETFROM:+0900
TZOFFSETTO:+0900
TZNAME:JST
DTSTART:20130101T000000
END:STANDARD
END:VTIMEZONE
BEGIN:VEVENT
DTSTART;VALUE=DATE:20140813
DTEND;VALUE=DATE:20140814
DTSTAMP:20260423T022059
CREATED:20250802T053044Z
LAST-MODIFIED:20250802T054951Z
UID:5808-1407888000-1407974399@blue10works.com
SUMMARY:【イベント】雨宮 天デビューシングル『Skyreach』発売記念イベント タワーレコード
DESCRIPTION:
URL:https://blue10works.com/event/%e3%80%90%e3%82%a4%e3%83%99%e3%83%b3%e3%83%88%e3%80%91%e9%9b%a8%e5%ae%ae-%e5%a4%a9%e3%83%87%e3%83%93%e3%83%a5%e3%83%bc%e3%82%b7%e3%83%b3%e3%82%b0%e3%83%ab%e3%80%8eskyreach%e3%80%8f%e7%99%ba%e5%a3%b2/
END:VEVENT
BEGIN:VEVENT
DTSTART;VALUE=DATE:20140813
DTEND;VALUE=DATE:20140814
DTSTAMP:20260423T022059
CREATED:20250802T053044Z
LAST-MODIFIED:20260404T123318Z
UID:5810-1407888000-1407974399@blue10works.com
SUMMARY:【販売】雨宮天1stシングル 「Skyreach」
DESCRIPTION:
URL:https://blue10works.com/event/%e3%80%90%e8%b2%a9%e5%a3%b2%e3%80%911st%e3%82%b7%e3%83%b3%e3%82%b0%e3%83%ab-%e3%80%8cskyreach%e3%80%8d/
END:VEVENT
BEGIN:VEVENT
DTSTART;VALUE=DATE:20140813
DTEND;VALUE=DATE:20140814
DTSTAMP:20260423T022059
CREATED:20250802T053044Z
LAST-MODIFIED:20250802T055013Z
UID:5811-1407888000-1407974399@blue10works.com
SUMMARY:【冊子】アニカン Vol.138
DESCRIPTION:「Skyreach」表紙＆中面2Pインタビュー
URL:https://blue10works.com/event/%e3%80%90%e5%86%8a%e5%ad%90%e3%80%91%e3%82%a2%e3%83%8b%e3%82%ab%e3%83%b3-vol-138/
END:VEVENT
END:VCALENDAR