BEGIN:VCALENDAR
VERSION:2.0
PRODID:-//声優・雨宮天 お仕事非公式データベース - ECPv6.15.20//NONSGML v1.0//EN
CALSCALE:GREGORIAN
METHOD:PUBLISH
X-ORIGINAL-URL:https://blue10works.com
X-WR-CALDESC:声優・雨宮天 お仕事非公式データベース のイベント
REFRESH-INTERVAL;VALUE=DURATION:PT1H
X-Robots-Tag:noindex
X-PUBLISHED-TTL:PT1H
BEGIN:VTIMEZONE
TZID:Asia/Tokyo
BEGIN:STANDARD
TZOFFSETFROM:+0900
TZOFFSETTO:+0900
TZNAME:JST
DTSTART:20250101T000000
END:STANDARD
END:VTIMEZONE
BEGIN:VEVENT
DTSTART;VALUE=DATE:20260418
DTEND;VALUE=DATE:20260419
DTSTAMP:20260422T231607
CREATED:20260413T092150Z
LAST-MODIFIED:20260413T092234Z
UID:15744-1776470400-1776556799@blue10works.com
SUMMARY:【雑誌】「Scene0 vol.4」
DESCRIPTION:https://scene0.jp/shop/products/S0-004 \nScene0 vol.4\n雨宮天・岬なこ・黒沢ともよの女性声優3名が出演！ 総ページ数：約100ページ、1名あたり30ページの大ボリュームで特集！\n【予約販売期間】\n2026/04/18(土)18：00～2026/04/24(金)25：59
URL:https://blue10works.com/event/%e3%80%90%e9%9b%91%e8%aa%8c%e3%80%91scene0-vol-4/
END:VEVENT
END:VCALENDAR